BEGIN:VCALENDAR
VERSION:2.0
PRODID:-//Comité Départemental Loire Badminton - ECPv6.15.12.2//NONSGML v1.0//EN
CALSCALE:GREGORIAN
METHOD:PUBLISH
X-WR-CALNAME:Comité Départemental Loire Badminton
X-ORIGINAL-URL:https://badminton42.fr
X-WR-CALDESC:Évènements pour Comité Départemental Loire Badminton
REFRESH-INTERVAL;VALUE=DURATION:PT1H
X-Robots-Tag:noindex
X-PUBLISHED-TTL:PT1H
BEGIN:VTIMEZONE
TZID:UTC
BEGIN:STANDARD
TZOFFSETFROM:+0000
TZOFFSETTO:+0000
TZNAME:UTC
DTSTART:20190101T000000
END:STANDARD
END:VTIMEZONE
BEGIN:VEVENT
DTSTART;TZID=UTC:20200202T090000
DTEND;TZID=UTC:20200202T120000
DTSTAMP:20260424T003112
CREATED:20200121T093108Z
LAST-MODIFIED:20200121T093108Z
UID:3049-1580634000-1580644800@badminton42.fr
SUMMARY:Plateau minibad
DESCRIPTION:Tableau inscription plateau minibad 02.02.2020
URL:https://badminton42.fr/event/plateau-minibad/
CATEGORIES:Formation
ATTACH;FMTTYPE=image/jpeg:https://badminton42.fr/wp-content/uploads/2020/01/AFFICHE-PLATEAU-MINIBAD.jpg
END:VEVENT
BEGIN:VEVENT
DTSTART;TZID=UTC:20200205T080000
DTEND;TZID=UTC:20200205T170000
DTSTAMP:20260424T003112
CREATED:20200205T135939Z
LAST-MODIFIED:20200205T135939Z
UID:3063-1580889600-1580922000@badminton42.fr
SUMMARY:STAGE OAT
DESCRIPTION:Fiche d inscription stage OAT 27 02 20
URL:https://badminton42.fr/event/stage-oat/
CATEGORIES:Stage
ATTACH;FMTTYPE=image/jpeg:https://badminton42.fr/wp-content/uploads/2020/02/affiche-stage-OAT.jpg
END:VEVENT
BEGIN:VEVENT
DTSTART;VALUE=DATE:20200222
DTEND;VALUE=DATE:20200224
DTSTAMP:20260424T003112
CREATED:20191224T101539Z
LAST-MODIFIED:20191224T101539Z
UID:3001-1582329600-1582502399@badminton42.fr
SUMMARY:Tournoi Génilac
DESCRIPTION:???? GENIBAD – 11ème Edition – Tournoi Officiel de Doubles ????\n\n???? Les 22 et 23 Février 2020 ????\n\nL’ABG42 organise son 11ème Genibad ????\nNous vous attendons nombreuses et nombreux pour venir jouer\, amortir\, smasher et rusher sur les terrains genilacois ????\n\nVous pouvez vous inscrire sur le site badiste.fr ou directement via un fichier à remplir (voir pièce jointe) et nous envoyer.\n\n– http://badiste.fr/tournoi-badminton/11-genibad-11884.html\n\nVous trouverez en pièce jointe\, le règlement particulier et la fiche d’inscriptions.\n\n\nRP_11eme_GeniBad42_2020\nGENIBAD_2020_Inscriptions\n\n\nNous avons vécu une superbe soirée pour la 10ème édition ???? …du coup… ???? Nous avons décidé de vous proposer\, à nouveau\, la soirée officielle du Genibad qui se déroulera le samedi 22 au soir ????????\n\nPour vous inscrire à la soirée du samedi ????????\nMerci de remplir ce formulaire :\nhttps://forms.gle/8DhWHuaBw9VCwykBA\n\nApéro + Repas + Fromage blanc + Dessert ????\n\nPrix :\n– 6 ans et moins = gratuit\n– entre 7 et 12 ans = 6 euros\n– à partir de 13 ans = 12 euros\n\n(Vous pouvez venir qu’à la soirée ????????)\n\nEn espérant vous voir nombreux sur les terrains lors du tournoi.\n\nL’équipe de l’ABG42 profite de ce mail pour vous souhaitez de très bonnes fêtes de fin d’année ! ????????
URL:https://badminton42.fr/event/tournoi-genilac-2/
LOCATION:Gymnase du Féloin Génilac\, 130 - 166 allée des bourdonnes\, Génilac\, 42800
CATEGORIES:Tournoi
ATTACH;FMTTYPE=image/jpeg:https://badminton42.fr/wp-content/uploads/2019/12/Genibad-2020.jpg
END:VEVENT
END:VCALENDAR