BEGIN:VCALENDAR
VERSION:2.0
PRODID:-//Comité Départemental Loire Badminton - ECPv6.15.12.2//NONSGML v1.0//EN
CALSCALE:GREGORIAN
METHOD:PUBLISH
X-WR-CALNAME:Comité Départemental Loire Badminton
X-ORIGINAL-URL:https://badminton42.fr
X-WR-CALDESC:Évènements pour Comité Départemental Loire Badminton
REFRESH-INTERVAL;VALUE=DURATION:PT1H
X-Robots-Tag:noindex
X-PUBLISHED-TTL:PT1H
BEGIN:VTIMEZONE
TZID:UTC
BEGIN:STANDARD
TZOFFSETFROM:+0000
TZOFFSETTO:+0000
TZNAME:UTC
DTSTART:20190101T000000
END:STANDARD
END:VTIMEZONE
BEGIN:VEVENT
DTSTART;TZID=UTC:20200107T080000
DTEND;TZID=UTC:20200107T170000
DTSTAMP:20260424T020537
CREATED:20200107T073646Z
LAST-MODIFIED:20200107T073646Z
UID:3016-1578384000-1578416400@badminton42.fr
SUMMARY:TRJ 3 A SAINT CHAMOND
DESCRIPTION:Inscriptions TRJ 3 19-01-20 \nReglement Particulier TRJ St Chamond
URL:https://badminton42.fr/event/trj-3-a-saint-chamond/
CATEGORIES:TRJ
ATTACH;FMTTYPE=image/jpeg:https://badminton42.fr/wp-content/uploads/2020/01/Affiche-TRJ-3-Saint-Chamond-190120.jpg
END:VEVENT
BEGIN:VEVENT
DTSTART;TZID=UTC:20200110T093000
DTEND;TZID=UTC:20200110T150000
DTSTAMP:20260424T020537
CREATED:20191211T083941Z
LAST-MODIFIED:20191211T083941Z
UID:2987-1578648600-1578668400@badminton42.fr
SUMMARY:Formation du jeune joueur
DESCRIPTION:  \nLe club d’Oullins accueillera la 2ème étape du Circuit Elite Jeunes du 10 au 12 janvier prochain. \nCette compétition regroupera les meilleurs joueurs (es) français benjamins\, minimes et cadets. \nA cette occasion\, la ligue Auvergne-Rhône-Alpes organise une formation continue des entraîneurs sur le thème de la formation du jeune joueur. \nVincent LAIGLE\, entraîneur national\, ancien top 15 mondial en double homme\, viendra expliquer les dernières évolutions et notamment l’articulation entre les 2 outils « Dispositif jeunes (DJ) » et « Parcours de formation du jeune joueur (PFJJ) » \nLa formation se déroulera en 2 temps : \n9h30 – 12h : Présentation générale par Vincent LAIGLE \n13h – 15h : observations guidées des matches \nC’est vraiment une occasion unique d’observer le haut niveau jeunes français et d’échanger avec un expert\, à l’origine de bon nombre de supports pédagogiques sur la formation des jeunes vers le haut niveau \nCette formation est gratuite et ouverte à tous les encadrants d’écoles de jeunes. \nIl faut simplement s’inscrire auprès de Thomas Champion par mail avant le 8 janvier 2020. \nthomas.champion@badminton-aura.org
URL:https://badminton42.fr/event/formation-du-jeune-joueur/
CATEGORIES:Formation
ATTACH;FMTTYPE=image/jpeg:https://badminton42.fr/wp-content/uploads/2019/12/FC-CEJ-2.jpg
END:VEVENT
BEGIN:VEVENT
DTSTART;TZID=UTC:20200111T080000
DTEND;TZID=UTC:20200112T200000
DTSTAMP:20260424T020537
CREATED:20191114T065834Z
LAST-MODIFIED:20191114T065835Z
UID:2898-1578729600-1578859200@badminton42.fr
SUMMARY:Tournoi Rive de Gier
DESCRIPTION:Bonjour à vous tous\,\nNous sommes heureux de vous convier à notre 34ème édition du Tournoi de L’Epiphanie\nN° Autorisation : 1901444 \nLes 11 & 12 Janvier 2020 \nLe gymnase Jacques Anquetil (à Rive de Gier) se trouve en voiture à : \n* 20min de Saint Etienne\n* 30min de Lyon\n* 30min de Vienne\n* 50min de Roanne\n* 1h15 de Valence \n– Les Doubles Dames & Hommes se dérouleront le samedi 11 Janvier 2020 de 8h00 à 20h30 / 21h00.\n– Les Doubles Mixtes se dérouleront le dimanche 12 Janvier 2020 à partir de 8h00 \nA votre disposition 7 terrains de jeu et 1 terrain d’échauffement sur l’ensemble de la compétition \n* Nous ouvrons notre tournoi aux séries NC à R5 comprises \n* Tableaux : NC/P12/P11 – P10/D9 – D8/D7 – R6/R5 \nCi joint tous les documents de notre compétition :\nInscription 34eme tournoi EPIPHANIE\nRèglement particulier du 34 tournoi \n/!\ Aucune inscription par Badliste /!\ \n– Date limite d’inscription : 20 DECEMBRE 2019 \n– Tirage au sort : 4 JANVIER 2020 \nA très bientôt sur les terrains \nPour tous renseignements : tournois@bcrg.fr \nL’équipe du BCRG
URL:https://badminton42.fr/event/tournoi-rive-de-gier/
LOCATION:Gymnase Jacques Anquetil Rive de Gier\, rue du Mathoret\, Rive de Gier
CATEGORIES:Tournoi
ATTACH;FMTTYPE=image/jpeg:https://badminton42.fr/wp-content/uploads/2019/11/Affiche-34-e-tournoi-Rive-de-Gier.jpg
ORGANIZER;CN="Tournoi Rive de Gier":MAILTO:tournois@bcrg.fr
END:VEVENT
BEGIN:VEVENT
DTSTART;VALUE=DATE:20200125
DTEND;VALUE=DATE:20200127
DTSTAMP:20260424T020537
CREATED:20191118T050751Z
LAST-MODIFIED:20191123T042433Z
UID:2911-1579910400-1580083199@badminton42.fr
SUMMARY:TOURNOI LA FOUILLOUSE
DESCRIPTION:Bonjour à tous\, \nNotre 13ème Tournoi – Les Fous du Volant est ouvert aux inscriptions. \nNous vous attendons nombreux pour participer à cette compétition et pour passer une bonne journée dans la convivialité bien connue de notre club. \nLe tournoi est ouvert à tous les joueurs minimes\, cadets\, juniors\, séniors et vétérans\, de NC à R4 pour les tableaux SIMPLE – DOUBLE – MIXTE. \nVenez vous affronter dans une compétition vous offrant un maximum de jeu\, \nUne buvette et un stand de cordage seront mis à votre disposition. \nRappel des modalités d’inscriptions : \nLes inscriptions des joueurs se feront par club et devront être envoyées avant le samedi 11 janvier 2020.\n– Par mail au responsable du tournoi : tournois-la-fouillouse@hotmail.fr\n– Par courrier à l’adresse postale : \nM. Denis PEREIRA\n13 Chemin des Sagnes   – 42390 Villars \nDocuments d’inscription  \n\nFEUILLE INSCRIPTION TOURNOI 25 & 26 Janvier 2020 \nLFDV42 Règlement particulier tournoi LFDV 2020\n\n\n\nBien sportivement à tous \nLes Fous du Volant \nwww.lfdv42.org
URL:https://badminton42.fr/event/tournoi-la-fouillouse-3/
CATEGORIES:Tournoi
ATTACH;FMTTYPE=image/jpeg:https://badminton42.fr/wp-content/uploads/2019/11/affiche_2020.jpg
ORGANIZER;CN="Denis PEREIRA":MAILTO:tournois-la-fouillouse@hotmail.fr 
END:VEVENT
END:VCALENDAR