BEGIN:VCALENDAR
VERSION:2.0
PRODID:-//Comité Départemental Loire Badminton - ECPv6.15.12.2//NONSGML v1.0//EN
CALSCALE:GREGORIAN
METHOD:PUBLISH
X-WR-CALNAME:Comité Départemental Loire Badminton
X-ORIGINAL-URL:https://badminton42.fr
X-WR-CALDESC:Évènements pour Comité Départemental Loire Badminton
REFRESH-INTERVAL;VALUE=DURATION:PT1H
X-Robots-Tag:noindex
X-PUBLISHED-TTL:PT1H
BEGIN:VTIMEZONE
TZID:UTC
BEGIN:STANDARD
TZOFFSETFROM:+0000
TZOFFSETTO:+0000
TZNAME:UTC
DTSTART:20180101T000000
END:STANDARD
END:VTIMEZONE
BEGIN:VEVENT
DTSTART;VALUE=DATE:20190928
DTEND;VALUE=DATE:20190930
DTSTAMP:20260424T082156
CREATED:20190711T133213Z
LAST-MODIFIED:20190711T133213Z
UID:2752-1569628800-1569801599@badminton42.fr
SUMMARY:Tournoi des dirigeants
DESCRIPTION:Tournoi de double « salade » organisé du samedi 28/9 10h au dimanche 29/09 17h\, entrecoupé de séquences de formation continue des dirigeants au choix cette année: \n\n–  Le projet de club\n–  La mobilisation des bénévoles\n–  La fidélisation des licenciés\n–  La recherche de financement\n–  La vie administrative des associations\n–  Echanges de bonnes pratiques\n+ une initiation à une activité surprise \nOuvert à tous les membres du bureau d’un club de la ligue AURA Prise en charge par la ligue de 2 élus/club des frais de tournoi\, de la restauration et de l’hébergement. (65€ au-delà de 2 pers.)\nLieu : Centre d’hébergement des Bullieux – Andrézieux-Bouthéon\n\nDocuments : flyer tournoi des dirigeants sept 2019 \n  \nS’INSCRIRE
URL:https://badminton42.fr/event/tournoi-des-dirigeants/
LOCATION:Centre hébergement des Bullieux\, 23 rue des Bullieux\, Andrézieux-Bouthéon\, 42160\, France
CATEGORIES:Formation
ATTACH;FMTTYPE=image/jpeg:https://badminton42.fr/wp-content/uploads/2019/07/flyer-tournoi-des-dirigeants-sept-2019.jpg
END:VEVENT
END:VCALENDAR