BEGIN:VCALENDAR
VERSION:2.0
PRODID:-//Comité Départemental Loire Badminton - ECPv6.15.12.2//NONSGML v1.0//EN
CALSCALE:GREGORIAN
METHOD:PUBLISH
X-ORIGINAL-URL:https://badminton42.fr
X-WR-CALDESC:Évènements pour Comité Départemental Loire Badminton
REFRESH-INTERVAL;VALUE=DURATION:PT1H
X-Robots-Tag:noindex
X-PUBLISHED-TTL:PT1H
BEGIN:VTIMEZONE
TZID:UTC
BEGIN:STANDARD
TZOFFSETFROM:+0000
TZOFFSETTO:+0000
TZNAME:UTC
DTSTART:20180101T000000
END:STANDARD
END:VTIMEZONE
BEGIN:VEVENT
DTSTART;VALUE=DATE:20190622
DTEND;VALUE=DATE:20190624
DTSTAMP:20260424T125155
CREATED:20190408T071917Z
LAST-MODIFIED:20190408T071945Z
UID:2625-1561161600-1561334399@badminton42.fr
SUMMARY:Tournois Feurs
DESCRIPTION:Bonjour à toutes et à tous \n \nLe FEURS BADMINTON CLUB vous invite à la 10ème édition de son tournoi \n\n« Les VOLANTS FOREZIENS »\n\nqui aura lieu les Samedi 22 et Dimanche 23 juin 2019\n \nau gymnase G1 situé route de Civens 42110 FEURS\n \nSimples hommes et dames et doubles mixtes le samedi – Doubles hommes et dames le dimanche\n\nVous trouverez ci dessous les éléments nécessaires\n\nRèglement des Volants Foréziens\nFeuille d’inscription Les Volants Foreziens\n\nVous n’avez qu’une seule autre date à retenir: le 11 juin 2019 date de la limite des inscriptions.\nUn stand de cordage et une buvette bien fournie seront à votre disposition tout au long du week-end.\n \nNous vous remercions de transmettre cette invitation au responsable des inscriptions.\n \nNous espérons vous voir nombreux sur nos terrains.\n \nSportivement\n \nL’équipe du FBC42
URL:https://badminton42.fr/event/tournois-feurs/
LOCATION:Gymnase G1 Feurs\, route de Civens\, Feurs\, 42110\, France
CATEGORIES:Tournoi
ATTACH;FMTTYPE=image/jpeg:https://badminton42.fr/wp-content/uploads/2019/04/AFFICHE-TOURNOI-VOLANTS-FOREZIENS-2019.jpg
END:VEVENT
BEGIN:VEVENT
DTSTART;TZID=UTC:20190629T080000
DTEND;TZID=UTC:20190630T190000
DTSTAMP:20260424T125155
CREATED:20190529T034648Z
LAST-MODIFIED:20190529T034649Z
UID:2681-1561795200-1561921200@badminton42.fr
SUMMARY:4ème Open de Doubles d'Andrézieux-Bouthéon
DESCRIPTION:BIENVENUE AU 5ème OPEN DE DOUBLES D’ANDREZIEUX-BOUTHEON\nSERIES ET TABLEAUX \nLe tournoi est ouvert aux tableaux Doubles Hommes/Dames le 29 juin et Mixtes le 30 Juin dans les séries N3 / R4 / R5 / R6 / D7 / D8 / D9 / P10 / P11 / P12 & NC \nL’organisation se réserve le droit de modifier la répartition des séries pour le bon déroulement du tournoi \n\nINSCRIPTIONS \nLa date limite est fixée au 15 Juin 2019 \nLes inscriptions doivent être envoyées à l’adresse suivante : tournoi.abbc.42@gmail.com \nLe nombre d’inscriptions est limité à 180 joueurs. Les premiers inscrits auront automatiquement une place\, au delà du 180ème joueur\, vous serez mis sur une liste d’attente et vous en serez informés \nLe montant est de 17€ pour un tableau et de 20€ pour deux tableaux \nChèques à envoyer à : \nFlorian CHALARD \n23 rue Gambetta \n42170 St Just St Rambert \nLes chèques devront être libellés à l’ordre ABBC 42 \n Les documents d’inscription \n\nInscriptions 4ème Open Doubles Andrézieux Bouthéon\nRèglement Particulier signé 4ème Open Doubles Andrézieux\n\n\nTIRAGE AU SORT \nIl aura lieu le 15 Juin 2018 avec le dernier CPPH en vigueur \n\nARBITRAGE / VOLANTS \nLes matchs seront auto-arbitrés \nLe Juge-Arbitre sera Guillaume VIAL \nLe Volant officiel sera le BABOLAT N°4 \n\nBUVETTE \nUne buvette sera à votre disposition sur l’ensemble du tournoi pour vous restaurer \n\nSTAND \nL’Atelier Sportif sera à votre disposition sur l’ensemble du tournoi avec stand de vente et cordage \nSite internet :  www.ateliersportif.fr \n\nGYMNASE \nLe tournoi se déroulera au Gymnase Lacoste à côté du Collège Jacques Prévert \nGymnase Lacoste \nrue Alexander Fleming \n42160 Andrézieux Bouthéon \n5 terrains seront utilisés pour la compétition \nLe gymnase peut accueillir plus de 300 personnes grâce à ses deux gradins \n\nINFORMATIONS COMPLEMENTAIRES \nSite internet du club : http://www.ab-badminton.fr/ \nPage Facebook du club : https://www.facebook.com/andrezieuxboutheon.badmintonclub/?ref=aymt_homepage_panel  \nToute l’équipe d’Andrézieux-Bouthéon Badminton Club vous attend \n     \n        
URL:https://badminton42.fr/event/4eme-open-de-doubles-dandrezieux-boutheon/
LOCATION:Gymnase Lacoste Andrézieux-Bouthéon\, rue Alexandre Fleming\, Andrezieux-Bouthéon\, France
CATEGORIES:Tournoi
ATTACH;FMTTYPE=image/jpeg:https://badminton42.fr/wp-content/uploads/2019/05/Affiche-tournoi-double.jpg
ORGANIZER;CN="Florian CHALARD":MAILTO:tournoi.abbc.42@gmail.com
END:VEVENT
END:VCALENDAR