BEGIN:VCALENDAR
VERSION:2.0
PRODID:-//Comité Départemental Loire Badminton - ECPv6.15.12.2//NONSGML v1.0//EN
CALSCALE:GREGORIAN
METHOD:PUBLISH
X-ORIGINAL-URL:https://badminton42.fr
X-WR-CALDESC:Évènements pour Comité Départemental Loire Badminton
REFRESH-INTERVAL;VALUE=DURATION:PT1H
X-Robots-Tag:noindex
X-PUBLISHED-TTL:PT1H
BEGIN:VTIMEZONE
TZID:UTC
BEGIN:STANDARD
TZOFFSETFROM:+0000
TZOFFSETTO:+0000
TZNAME:UTC
DTSTART:20180101T000000
END:STANDARD
END:VTIMEZONE
BEGIN:VEVENT
DTSTART;TZID=UTC:20190316T090000
DTEND;TZID=UTC:20190316T163000
DTSTAMP:20260424T175634
CREATED:20190311T095014Z
LAST-MODIFIED:20190311T121242Z
UID:2597-1552726800-1552753800@badminton42.fr
SUMMARY:PLATEAU MINIBAD/RDJ
DESCRIPTION:Inscriptions plateau et RDJ SCPGBAD
URL:https://badminton42.fr/event/plateau-minibadrdj/
LOCATION:Gymnase Couderc Saint-Chamond\, chemin Martinière\, Saint-Chamond\, 42400\, France
END:VEVENT
BEGIN:VEVENT
DTSTART;VALUE=DATE:20190331
DTEND;VALUE=DATE:20190401
DTSTAMP:20260424T175634
CREATED:20190130T115610Z
LAST-MODIFIED:20190201T075422Z
UID:2553-1553990400-1554076799@badminton42.fr
SUMMARY:CJL SAINT MARCELLIN
DESCRIPTION:AFFICHE CJL BM42 31 mars \nReglement-CJL-ST-Marcellin-en-Forez 2019-1      \nfeuille_d-inscription_CJL St Marcellin en Forez
URL:https://badminton42.fr/event/cjl-saint-marcellin/
LOCATION:Gymnase Saint-Marcellin en Forez\, rue Pasteur\, St Marcellin en Forez\, 42680\, France
CATEGORIES:CJL
END:VEVENT
END:VCALENDAR