BEGIN:VCALENDAR
VERSION:2.0
PRODID:-//Comité Départemental Loire Badminton - ECPv6.15.12.2//NONSGML v1.0//EN
CALSCALE:GREGORIAN
METHOD:PUBLISH
X-WR-CALNAME:Comité Départemental Loire Badminton
X-ORIGINAL-URL:https://badminton42.fr
X-WR-CALDESC:Évènements pour Comité Départemental Loire Badminton
REFRESH-INTERVAL;VALUE=DURATION:PT1H
X-Robots-Tag:noindex
X-PUBLISHED-TTL:PT1H
BEGIN:VTIMEZONE
TZID:UTC
BEGIN:STANDARD
TZOFFSETFROM:+0000
TZOFFSETTO:+0000
TZNAME:UTC
DTSTART:20170101T000000
END:STANDARD
END:VTIMEZONE
BEGIN:VEVENT
DTSTART;TZID=UTC:20181005T190000
DTEND;TZID=UTC:20181005T223000
DTSTAMP:20260425T014747
CREATED:20180704T052615Z
LAST-MODIFIED:20180704T052615Z
UID:2033-1538766000-1538778600@badminton42.fr
SUMMARY:Assemblée Générale CODEP
DESCRIPTION:  \nVendredi 5 octobre 2018\n19 heures\nPalais des Sports d’Andrézieux-Bouthéon
URL:https://badminton42.fr/event/assemblee-generale-codep/
LOCATION:Palais des sports Andrézieux-Bouthéon\, 23 rue des Bullieux\, Andrézieux-Bouthéon\, 42160\, France
CATEGORIES:Assemblée
ATTACH;FMTTYPE=image/jpeg:https://badminton42.fr/wp-content/uploads/2018/07/AG-CODEP-2018.001.jpeg
END:VEVENT
BEGIN:VEVENT
DTSTART;VALUE=DATE:20181006
DTEND;VALUE=DATE:20181007
DTSTAMP:20260425T014747
CREATED:20180929T013218Z
LAST-MODIFIED:20181004T032907Z
UID:2188-1538784000-1538870399@badminton42.fr
SUMMARY:CJL Génilac
DESCRIPTION:7ème Tournoi Jeune de Génilac 6 octobre 2018\n Lieu :\nGymnase « Le Féloin »\, Allée des Bourdonnes 42800 Genilac. \n Dates et horaires :\nSamedi 6 octobre 2018\, de 8h00 à 18h00 \n Inscription\nL’équipe organisatrice vous encourage vivement à lire le règlement particulier du tournoi (RPT)\, ci-joint\, avant de remplir la feuille d’inscription. \nRèglement CJL Génilac 2018 \nFiche inscription CLJ Génilac 2018 \n Séries et tableaux\nLe tournoi est ouvert aux :\n– Poussins et Minimes\, en Simple uniquement\,\n– Benjamins et Cadets/Juniors\, en Double et en Mixte. \nModifications de dernière minute \nLe faible nombre d’inscrits dans plusieurs catégories nous ont contraint\, avec l’accord des intéressés\, à modifier certaines séries.\n \nAinsi\, sont supprimées les catégories et séries suivantes:\n– SD Minime\n– toutes les séries prévues en Benjamin\n– SD Poussin\n– DD et DX Junior/Cadet\n\nAfin de faire jouer le plus de monde possible\, il est créé le SD Junior/Cadet\n Inscriptions et forfaits\nLa date limite d’inscription est fixée au vendredi\n28/09/2017. Les inscriptions seront prises par ordre d’envoi.\nUn joueur forfait ne sera remboursé que si l’organisateur a été prévenu avant la date limite du tirage au sort\, ou sur présentation d’un justificatif. (Voir la sanction encourue pour un forfait sur la circulaire de la Ligue RA de badminton)\nLa feuille d’engagement utilisée doit être celle jointe. \nTarif 5€ \nClubs de la Loire : MERCI de n’envoyer aucun règlement\, une facture vous sera envoyée après le tournoi par le Codep42 ! Clubs hors Loire : MERCI de faire parvenir un chèque libéllé « CDLB » avec votre feuille d’inscription. \n\n\n\n\n\n\nInscription à renvoyer à : \nMichaël Vial\n51\, rue des Fossés 42800 Genilac genibad@abg42.fr \n Juge arbitre et tirage au sort\nLe juge arbitre est : Laurent SORIA\nLe tirage au sort aura lieu le lundi 1er octobre à Genilac. \n Convocations\nLes convocations seront envoyées aux clubs par mail le 1er octobre dans la soirée\, afin de confirmer les inscriptions et les horaires de convocation des joueurs. \n Restauration\nUne buvette et un coin restauration seront assurés durant toute la durée du tournoi. \n Renseignements :\nPour tout renseignement\, merci de contacter:\nMr Michaël Vial\nTel : 06-14-39-14-01 ou mail : genibad@abg42.fr \n A noter\nLe tournoi se déroulera dans notre gymnase de 4 terrains seulement! Nous seronsrestreints au niveau du nombre de participants (environ 50) Pensez à vous inscrire dès que possible !!! \n Situation géographique\nGymnase « Le Féloin »\, Allée des Bourdonnes\, 42800 Genilac (derrière la salle municipale des « Bourdonnes »).\nPar A47\, sortie 12\, direction Genilac centre. \nL’équipe organisatrice de l’ABG42
URL:https://badminton42.fr/event/cjl-genilac/
CATEGORIES:CJL
END:VEVENT
BEGIN:VEVENT
DTSTART;TZID=UTC:20181020T080000
DTEND;TZID=UTC:20181021T170000
DTSTAMP:20260425T014747
CREATED:20180701T175903Z
LAST-MODIFIED:20180703T010609Z
UID:2002-1540022400-1540141200@badminton42.fr
SUMMARY:Tournoi de Montbrison
DESCRIPTION:Tournoi de Montbrison\n  \nLes documents \nRèglement-particulier-FOREZ-2018- \nFeuille inscription JEUNES 26 eme tournoi du forez 2018 \nFeuille inscription ADULTES 27eme tournoi du forez
URL:https://badminton42.fr/event/tournoi-de-montbrison/
LOCATION:Complexe sportif de Beauregard Montbrison\, rue de Beauregard\, Montbrison\, 42600\, France
CATEGORIES:Tournoi
ATTACH;FMTTYPE=image/jpeg:https://badminton42.fr/wp-content/uploads/2018/07/affiche-27-eme-Montbrison.jpg
ORGANIZER;CN="Jean-Philippe RAIOLA":MAILTO:trjmontbrison@gmail.com
END:VEVENT
BEGIN:VEVENT
DTSTART;VALUE=DATE:20181022
DTEND;VALUE=DATE:20181023
DTSTAMP:20260425T014747
CREATED:20180929T021605Z
LAST-MODIFIED:20180929T021605Z
UID:2193-1540166400-1540252799@badminton42.fr
SUMMARY:Stage Jeune
DESCRIPTION:STAGE JEUNE OUVERT A TOUS\nBonjour \nVous trouverez en pièce jointe la plaquette et fiche d’inscription pour le premier stage de la saison.\nJe reste à votre disposition pour toutes questions.\n\n\n\n\n\nNathalie Martin\nConseillère Technique Départementale \nComité Départemental Loire badminton\n06 29 13 53 86 \n4 rue des Trois Meules 42100 St Etienne \n\n\n\n\nstage OAT 22 10 18\nFiche d inscription stage OAT 22 10 18
URL:https://badminton42.fr/event/stage-jeune/
LOCATION:Gymnase Saint-Marcellin en Forez\, rue Pasteur\, St Marcellin en Forez\, 42680\, France
CATEGORIES:Stage
END:VEVENT
BEGIN:VEVENT
DTSTART;TZID=UTC:20181025T090000
DTEND;TZID=UTC:20181025T160000
DTSTAMP:20260425T014747
CREATED:20181008T070109Z
LAST-MODIFIED:20181008T070109Z
UID:2268-1540458000-1540483200@badminton42.fr
SUMMARY:Stage Poussin d'octobre 2018
DESCRIPTION:Vous trouverez en pièce jointe les documents pour le premier stage de la saison. Pas de niveau exigé\, juste envie de s’amuser.\nPour les encadrants qui souhaiteraient participer à cette journée\, ils sont les bienvenus.\nInscription avant le 19 octobre\n\nCoût : 20€\n\nJe vous souhaite une bonne journée\n\nDétail stage poussin 25 10 18\nFiche d inscription stage poussin 251018\n\n\n\n\n\n\nNathalie Martin\nConseillère Technique Départementale \nComité Départemental Loire badminton\n06 29 13 53 86\n4 rue des Trois Meules 42100 St Etienne
URL:https://badminton42.fr/event/stage-poussin-doctobre-2018/
LOCATION:Gymnase Saint-Marcellin en Forez\, rue Pasteur\, St Marcellin en Forez\, 42680\, France
CATEGORIES:Stage
ORGANIZER;CN="MARTIN Nathalie":MAILTO:nmartin.ctd42@gmail.com
END:VEVENT
BEGIN:VEVENT
DTSTART;VALUE=DATE:20181027
DTEND;VALUE=DATE:20181029
DTSTAMP:20260425T014747
CREATED:20180903T074803Z
LAST-MODIFIED:20180903T074803Z
UID:2148-1540598400-1540771199@badminton42.fr
SUMMARY:Tournoi de Sorbiers
DESCRIPTION:Tournoi de Sorbiers\, les 27 et 28 octobre \n\nSimple et Double\nDe N2 à P12\n\nPlus d’informations : https://badminton-sorbiers.fr/not-sobad-tour/ \nVeuillez trouver ci joint les éléments concernant le tournoi de Sorbiers \n\nFormulaire inscription\nRéglement
URL:https://badminton42.fr/event/tournoi-de-sorbiers/
LOCATION:Complexe du Valjoly Sorbiers\, avenue du Valjoly\, Sorbiers\, 42290\, France
CATEGORIES:Tournoi
ATTACH;FMTTYPE=image/jpeg:https://badminton42.fr/wp-content/uploads/2018/09/Affiche_tournoi-Sorbiers.jpg
END:VEVENT
END:VCALENDAR