BEGIN:VCALENDAR
VERSION:2.0
PRODID:-//Comité Départemental Loire Badminton - ECPv6.15.12.2//NONSGML v1.0//EN
CALSCALE:GREGORIAN
METHOD:PUBLISH
X-ORIGINAL-URL:https://badminton42.fr
X-WR-CALDESC:Évènements pour Comité Départemental Loire Badminton
REFRESH-INTERVAL;VALUE=DURATION:PT1H
X-Robots-Tag:noindex
X-PUBLISHED-TTL:PT1H
BEGIN:VTIMEZONE
TZID:UTC
BEGIN:STANDARD
TZOFFSETFROM:+0000
TZOFFSETTO:+0000
TZNAME:UTC
DTSTART:20160101T000000
END:STANDARD
END:VTIMEZONE
BEGIN:VEVENT
DTSTART;VALUE=DATE:20171007
DTEND;VALUE=DATE:20171008
DTSTAMP:20260425T204547
CREATED:20170914T023019Z
LAST-MODIFIED:20170914T023019Z
UID:992-1507334400-1507420799@badminton42.fr
SUMMARY:6 ème CJL de Génilac
DESCRIPTION: ​6 ​ème Tournoi Jeune de Génilac\n\n\nDate: samedi 7 octobre 2017​ \nLieu: gymnase Le Feloin\, Allée des Bourdonnes\, 42800 Genilac \nCatégories: Simples Poussins et Simples Benjamin (2 sortants par poule obligatoire dans toutes les catégories) \nDate limite d’inscription: 29 septembre 2017\n\n\n​Inscription: 5€\n​Pour les clubs de la Loire : n’envoyez pas de règlement\, le Codep42 vous fera parvenir une facture après le tournoi!\n\n\n​Pour les clubs hors-Loire: MERCI d’envoyer votre règlement par chèque libellé « CDLB » avec votre inscription​\nTirage au sort: 30​/09/2016\nLimite du nombre de joueurs: 50 \nUne petite buvette sera à votre disposition \n\nCLJ Genilac renseignements\nReglement CJL Genilac\nFiche_inscription_CLJ_Genilac
URL:https://badminton42.fr/event/6-eme-cjl-de-genilac/
LOCATION:Gymnase le Feloin Génilac\, Allée des Bourdonnes\, Génilac\, 42800\, France
END:VEVENT
BEGIN:VEVENT
DTSTART;TZID=UTC:20171009T190000
DTEND;TZID=UTC:20171009T220000
DTSTAMP:20260425T204548
CREATED:20170722T092157Z
LAST-MODIFIED:20171005T022459Z
UID:943-1507575600-1507586400@badminton42.fr
SUMMARY:Conseil Administration n°1
DESCRIPTION:Conseil Administration N°1 du comité de la Loire \nA Sorbiers
URL:https://badminton42.fr/event/conseil-administration-n1/
LOCATION:Complexe du Valjoly Sorbiers\, avenue du Valjoly\, Sorbiers\, 42290\, France
CATEGORIES:Conseil administration CODEP
ATTACH;FMTTYPE=image/jpeg:https://badminton42.fr/wp-content/uploads/2017/03/logo-comité-2-1.jpg
END:VEVENT
BEGIN:VEVENT
DTSTART;TZID=UTC:20171014T090000
DTEND;TZID=UTC:20171015T173000
DTSTAMP:20260425T204548
CREATED:20170722T094856Z
LAST-MODIFIED:20170915T125655Z
UID:949-1507971600-1508088600@badminton42.fr
SUMMARY:Formation MODEF
DESCRIPTION:MOdule D’Entrée en Formation\nDurée : 15 heures sur 2 journées \nResponsable de la formation : Nathalie MARTIN \nLieux : Génilac (42) \nFiche d’inscription : Fiche candidature MODEF AB1 \nLiens vers les formations : ICI
URL:https://badminton42.fr/event/formation-modef/
LOCATION:Gymnase le Feloin Génilac\, Allée des Bourdonnes\, Génilac\, 42800\, France
CATEGORIES:Formation
ATTACH;FMTTYPE=image/jpeg:https://badminton42.fr/wp-content/uploads/2017/03/Logo-formation-codep.001.jpg
ORGANIZER;CN="MARTIN Nathalie":MAILTO:nmartin.ctd42@gmail.com
END:VEVENT
BEGIN:VEVENT
DTSTART;VALUE=DATE:20171021
DTEND;VALUE=DATE:20171023
DTSTAMP:20260425T204548
CREATED:20170722T075614Z
LAST-MODIFIED:20170920T035153Z
UID:933-1508544000-1508716799@badminton42.fr
SUMMARY:Tournoi Montbrison
DESCRIPTION:Tournoi de simple et double\, série N2 à P \nFeuille inscription et règlement sur Badiste : ICI \nRenseignements sur le site du club : http://mbc42.fr/ \nMail : mbc42@neuf.fr \nContact : Jean-Philippe RAIOLA : 06 01 82 74 25 \n 
URL:https://badminton42.fr/event/tournoi-montbrison/
LOCATION:Complexe sportif de Beauregard Montbrison\, rue de Beauregard\, Montbrison\, 42600\, France
CATEGORIES:Tournoi
ATTACH;FMTTYPE=image/jpeg:https://badminton42.fr/wp-content/uploads/2017/07/Tournoi-Montbrison.jpg
END:VEVENT
BEGIN:VEVENT
DTSTART;TZID=UTC:20171021T090000
DTEND;TZID=UTC:20171021T170000
DTSTAMP:20260425T204548
CREATED:20170918T101559Z
LAST-MODIFIED:20170918T101559Z
UID:1081-1508576400-1508605200@badminton42.fr
SUMMARY:Stage Poussin
DESCRIPTION:‌Vous trouverez en pièce jointe les documents concernant le stage poussin et le dispositif avenir départemental.\nAfin de ne pas multiplier les journées\, les poussins seront conviés pour la journée\, le stage le matin et le dispositif avenir  l’après midi.\nPour les benjamins 1 ils ne seront concernés que l’après midi pour le dispositif avenir ( formulaire DAD)\, je rappelle  que cette action a pour objectif de repérer le potentiel chez les  plus jeunes afin de les  proposer  sur le dispositif avenir régional. \nJe  reste à votre disposition pour toutes questions. \nNathalie MARTIN \n\nstage poussin 211017\nFiche d inscription stage poussin 211017\nficheinscription DAD 211017\n\n 
URL:https://badminton42.fr/event/stage-poussin/
CATEGORIES:Stage
ORGANIZER;CN="MARTIN Nathalie":MAILTO:nmartin.ctd42@gmail.com
END:VEVENT
END:VCALENDAR