BEGIN:VCALENDAR
VERSION:2.0
PRODID:-//Comité Départemental Loire Badminton - ECPv6.15.12.2//NONSGML v1.0//EN
CALSCALE:GREGORIAN
METHOD:PUBLISH
X-WR-CALNAME:Comité Départemental Loire Badminton
X-ORIGINAL-URL:https://badminton42.fr
X-WR-CALDESC:Évènements pour Comité Départemental Loire Badminton
REFRESH-INTERVAL;VALUE=DURATION:PT1H
X-Robots-Tag:noindex
X-PUBLISHED-TTL:PT1H
BEGIN:VTIMEZONE
TZID:UTC
BEGIN:STANDARD
TZOFFSETFROM:+0000
TZOFFSETTO:+0000
TZNAME:UTC
DTSTART:20160101T000000
END:STANDARD
END:VTIMEZONE
BEGIN:VEVENT
DTSTART;TZID=UTC:20170906T190000
DTEND;TZID=UTC:20170906T220000
DTSTAMP:20260425T220556
CREATED:20170722T080747Z
LAST-MODIFIED:20170722T080747Z
UID:941-1504724400-1504735200@badminton42.fr
SUMMARY:Réunion Bureau du comité N°1
DESCRIPTION:Réunion N°1 du bureau du comité
URL:https://badminton42.fr/event/reunion-bureau-du-comite-n1/
LOCATION:CODEP LOIRE Saint-Etienne\, 4 rue des 3 meules\, Saint-Etienne\, 42100\, France
CATEGORIES:Bureau CODEP
ATTACH;FMTTYPE=image/jpeg:https://badminton42.fr/wp-content/uploads/2017/03/logo-comité-2-1.jpg
END:VEVENT
BEGIN:VEVENT
DTSTART;TZID=UTC:20170915T190000
DTEND;TZID=UTC:20170915T213000
DTSTAMP:20260425T220556
CREATED:20170615T073915Z
LAST-MODIFIED:20170905T184529Z
UID:825-1505502000-1505511000@badminton42.fr
SUMMARY:Assemblée Générale du CODEP 42
DESCRIPTION:L’Assemblée Générale du Comité de la Loire de Badminton se tiendra vendredi 15 septembre à partir de 19h\, au Palais des sports d’Andrezieux-Bouthéon \nEntrée par l’arrière du bâtiment \nParking : se garer sur le parking de la piscine Nautiform \nAG 2017-2018 CdLB
URL:https://badminton42.fr/event/assemblee-generale-du-codep-42/
LOCATION:Palais des sports Andrézieux-Bouthéon\, 23 rue des Bullieux\, Andrézieux-Bouthéon\, 42160\, France
CATEGORIES:Assemblée
ATTACH;FMTTYPE=image/jpeg:https://badminton42.fr/wp-content/uploads/2017/06/AG-2017-Codep-42-e1497519546605.jpg
END:VEVENT
END:VCALENDAR