BEGIN:VCALENDAR
VERSION:2.0
PRODID:-//Comité Départemental Loire Badminton - ECPv6.15.12.2//NONSGML v1.0//EN
CALSCALE:GREGORIAN
METHOD:PUBLISH
X-WR-CALNAME:Comité Départemental Loire Badminton
X-ORIGINAL-URL:https://badminton42.fr
X-WR-CALDESC:Évènements pour Comité Départemental Loire Badminton
REFRESH-INTERVAL;VALUE=DURATION:PT1H
X-Robots-Tag:noindex
X-PUBLISHED-TTL:PT1H
BEGIN:VTIMEZONE
TZID:UTC
BEGIN:STANDARD
TZOFFSETFROM:+0000
TZOFFSETTO:+0000
TZNAME:UTC
DTSTART:20160101T000000
END:STANDARD
END:VTIMEZONE
BEGIN:VEVENT
DTSTART;VALUE=DATE:20170401
DTEND;VALUE=DATE:20170403
DTSTAMP:20260426T055036
CREATED:20170322T081944Z
LAST-MODIFIED:20170401T024347Z
UID:217-1491004800-1491177599@badminton42.fr
SUMMARY:Tournoi de St Galmier
DESCRIPTION:TOURNOI DE SAINT-GALMIER (42)\n\ndoubles hommes/doubles dames le samedi et mixtes le dimanche\ncatégories ouvertes : R6\, D7\, D8\, D9\, P10\, P11\, P12\n2 sortants par poule\n\nInscriptions limitées à 60 paires par jour de tournoi\, à renvoyer le 16 mars au plus tard !
URL:https://badminton42.fr/event/tournoi-de-st-galmier/
LOCATION:Gymnase Roger Riviere Saint-Galmier\, Gymnase Roger Riviere\, Saint-Galmier\, France
END:VEVENT
BEGIN:VEVENT
DTSTART;TZID=UTC:20170404T190000
DTEND;TZID=UTC:20170404T223000
DTSTAMP:20260426T055036
CREATED:20170323T123948Z
LAST-MODIFIED:20170329T092355Z
UID:331-1491332400-1491345000@badminton42.fr
SUMMARY:Conseil administration CODEP N°4
DESCRIPTION:Rendez-vous à partir de 19 heures \n\n\n\n\nRue Creux de l’oie – 42300 Roanne \nsi problème pour trouver\, contact Fabien : 06 14 24 66 73 \n\n\n\n\nORDRE DU JOUR\n\n1-  Quoi de neuf?\n\n–  Annulation des étapes CJL de Roanne et Saint-Etienne…. conséquences et réflexions\n–  AG Ligue\n–  Question de Firminy pour formation arbitre\n\n\n2-  Point Trésorerie : promotions des formations Entraineurs/Arbitres/JA par le CdlB \, modalités de remboursement\n3-  Facturation des CJL par les clubs des engagés hors département.\n4-  CNDS 2017\n\n\n\n\n\n\n5-  Site internet\n6-  Championnat de France jeunes\n7-  Formation SOC\n8-  Coupe de la Loire\n9-  Questions diverses
URL:https://badminton42.fr/event/conseil-administration-codep-n4/
LOCATION:rue creux de l’oie Roanne\, rue creux de l'oie\, Roanne\, 42300\, France
CATEGORIES:Conseil administration CODEP
END:VEVENT
BEGIN:VEVENT
DTSTART;VALUE=DATE:20170408
DTEND;VALUE=DATE:20170409
DTSTAMP:20260426T055036
CREATED:20170322T082340Z
LAST-MODIFIED:20170322T082340Z
UID:222-1491609600-1491695999@badminton42.fr
SUMMARY:Tournoi Saint-Marcellin
DESCRIPTION:TOURNOI DE SAINT-MARCELLIN (42)\nJournée du samedi 8 avril 2017 \nTournoi de doubles hommes et dames ouvert aux séries de : NC\, P\, D\, R6 et R5
URL:https://badminton42.fr/event/tournoi-saint-marcellin/
END:VEVENT
BEGIN:VEVENT
DTSTART;VALUE=DATE:20170408
DTEND;VALUE=DATE:20170410
DTSTAMP:20260426T055036
CREATED:20170329T110046Z
LAST-MODIFIED:20170329T110046Z
UID:512-1491609600-1491782399@badminton42.fr
SUMMARY:Stage SOC
DESCRIPTION:
URL:https://badminton42.fr/event/stage-soc/
CATEGORIES:Formation
END:VEVENT
BEGIN:VEVENT
DTSTART;VALUE=DATE:20170409
DTEND;VALUE=DATE:20170410
DTSTAMP:20260426T055036
CREATED:20170329T032321Z
LAST-MODIFIED:20170403T182735Z
UID:501-1491696000-1491782399@badminton42.fr
SUMMARY:CJL St Marcellin
DESCRIPTION:Compétition Jeune St Marcellin\nATTENTION\nDeux évènements sportifs se chevauchent ce dimanche 09 avril. Du coup\, le parcours\, pour arriver au gymnase\, sera fléché. L’accès au parking est réservé uniquement aux joueuses et joueurs de Badminton. Il faudra\, d’ailleurs\, se présenter en tant que tel au point de contrôle. Les horaires de passage sont les suivants : \n\nAvant 08h30\nDans la plage de 09h45 à 11h\nAprès 11h30\n\nDans le cas où vous ne pourriez pas arriver dans ces créneaux horaires\, il vous faudra vous garer au parking du stade de foot qui se situe à 5 minutes à pied \n  \nPlus de 80 jeunes joueurs sur 8 tableaux sont inscrit pour cette journée à St marcellin \n\nDD poussins\nDD cadets\nDH poussins\nDH cadets\nSD benjamins\nSD minimes\nSH benjamins\nSH minimes\n\nPour l’instant ( au 29 mars )les tableaux sont confirmés sauf les DD et DH cadets qui manquent de joueurs
URL:https://badminton42.fr/event/cjl-st-marcellin/
LOCATION:Gymnase Saint-Marcellin en Forez\, rue Pasteur\, St Marcellin en Forez\, 42680\, France
CATEGORIES:CJL
END:VEVENT
BEGIN:VEVENT
DTSTART;TZID=UTC:20170413T190000
DTEND;TZID=UTC:20170413T220000
DTSTAMP:20260426T055036
CREATED:20170328T115732Z
LAST-MODIFIED:20170328T115732Z
UID:495-1492110000-1492120800@badminton42.fr
SUMMARY:Formation Continue avec Thomas Champion
DESCRIPTION:Jeudi 13 avril\, se déroulera à Montbrison une formation continue sur le thème : La tactique en simple. \nCette formation est ouverte à tous ceux qui souhaitent faire évoluer les jeunes joueurs. \nVous trouverez en bas de page la fiche d’inscription\, merci de la retourner rapidement à Nathalie MARTIN \n \nfiche inscription formation continue 130417
URL:https://badminton42.fr/event/formation-continue-avec-thomas-champion/
LOCATION:Salle André Daval Montbrison\, 13 rue de Beauregard\, Montbrison\, 42600\, France
CATEGORIES:Formation
ORGANIZER;CN="MARTIN Nathalie":MAILTO:nmartin.ctd42@gmail.com
END:VEVENT
BEGIN:VEVENT
DTSTART;VALUE=DATE:20170422
DTEND;VALUE=DATE:20170424
DTSTAMP:20260426T055036
CREATED:20170322T082555Z
LAST-MODIFIED:20170401T024310Z
UID:226-1492819200-1492991999@badminton42.fr
SUMMARY:Tournoi Saint-Joseph
DESCRIPTION:TOURNOI DE DOUBLE DE ST JOSEPH\n\n22 AVRIL – 23 AVRIL \n\n\n\n 5ÈME TOURNOI   DE DOUBLES DE SAINT JOSEPH (42) \nSAMEDI 22 ET DIMANCHE 23 AVRIL 2017 \n\nDoubles Femmes et Hommes le samedi\nDoubles mixte le dimanche\n\nOuvert aux Cadets Juniors Séniors Vétérans séries  R4/R5/R6/D7/D8/D9/P10/P11/P12 \nPour toute information contactez \nStéphane TOGNARI 07 77 25 04 86
URL:https://badminton42.fr/event/tournoi-saint-joseph/
LOCATION:Gymnase Saint-Joseph\, rue du stade\, Saint-Joseph\, France
END:VEVENT
BEGIN:VEVENT
DTSTART;VALUE=DATE:20170423
DTEND;VALUE=DATE:20170424
DTSTAMP:20260426T055036
CREATED:20170401T023413Z
LAST-MODIFIED:20170401T023633Z
UID:544-1492905600-1492991999@badminton42.fr
SUMMARY:Trophée Régional Jeunes de Montbrison (42)
DESCRIPTION:Trophée Régional Jeunes de Montbrison (42)\n\nTRj 2017 Monbrison Réglement\nTRJ 2017 Monbrison Inscription\n\nATTENTION retour des inscriptions avant le 9 avril 2017
URL:https://badminton42.fr/event/trophee-regional-jeunes-de-montbrison-42/
LOCATION:Complexe sportif de Beauregard Montbrison\, rue de Beauregard\, Montbrison\, 42600\, France
CATEGORIES:Tournoi,TRJ
ATTACH;FMTTYPE=image/jpeg:https://badminton42.fr/wp-content/uploads/2017/04/trj5-montbrison-e1491021364587.jpg
ORGANIZER;CN="MBC 42":MAILTO:janfi-r@neuf.fr
END:VEVENT
BEGIN:VEVENT
DTSTART;TZID=UTC:20170424T100000
DTEND;TZID=UTC:20170424T180000
DTSTAMP:20260426T055036
CREATED:20170406T061548Z
LAST-MODIFIED:20170406T062440Z
UID:602-1493028000-1493056800@badminton42.fr
SUMMARY:Stage Poussin à Cadet
DESCRIPTION:STAGE OUVERT A TOUS\nde Poussin à Cadet organisé par le Comité Départementale de Badminton de la Loire \nEncadrement : Nathalie Martin \nApporter son Pique Nique \nInscription a passer obligatoirement par le responsable de son club \nRetour avant le 14 avril 2017 \nDocument : stage OAT 240417
URL:https://badminton42.fr/event/stage-poussin-a-cadet/
LOCATION:Complexe du Valjoly Sorbiers\, avenue du Valjoly\, Sorbiers\, 42290\, France
CATEGORIES:Stage
ATTACH;FMTTYPE=image/jpeg:https://badminton42.fr/wp-content/uploads/2017/03/logo-comité-2-1.jpg
ORGANIZER;CN="MARTIN Nathalie":MAILTO:nmartin.ctd42@gmail.com
END:VEVENT
BEGIN:VEVENT
DTSTART;TZID=UTC:20170425T090000
DTEND;TZID=UTC:20170425T170000
DTSTAMP:20260426T055036
CREATED:20170406T061850Z
LAST-MODIFIED:20170406T062304Z
UID:606-1493110800-1493139600@badminton42.fr
SUMMARY:Stage Poussin à Cadet
DESCRIPTION:STAGE OUVERT A TOUS\nde Poussin à Cadet organisé par le Comité Départementale de Badminton de la Loire \nEncadrement : Sylvain Gerbot \nApporter son Pique Nique \nInscription a passer obligatoirement par le responsable de son club \nRetour avant le 14 avril 2017 \nDocument : stage OAT 250417
URL:https://badminton42.fr/event/stage-poussin-a-cadet-2/
LOCATION:Gymnase Soleillant Montbrison\, rue de Beauregard\, Montbrison\, 42600\, France
CATEGORIES:Stage
ATTACH;FMTTYPE=image/jpeg:https://badminton42.fr/wp-content/uploads/2017/03/logo-comité-2-1.jpg
ORGANIZER;CN="Sylvain Berbot":MAILTO:sgerbot@yahoo.fr
END:VEVENT
END:VCALENDAR