BEGIN:VCALENDAR
VERSION:2.0
PRODID:-//Comité Départemental Loire Badminton - ECPv6.15.12.2//NONSGML v1.0//EN
CALSCALE:GREGORIAN
METHOD:PUBLISH
X-ORIGINAL-URL:https://badminton42.fr
X-WR-CALDESC:Évènements pour Comité Départemental Loire Badminton
REFRESH-INTERVAL;VALUE=DURATION:PT1H
X-Robots-Tag:noindex
X-PUBLISHED-TTL:PT1H
BEGIN:VTIMEZONE
TZID:UTC
BEGIN:STANDARD
TZOFFSETFROM:+0000
TZOFFSETTO:+0000
TZNAME:UTC
DTSTART:20190101T000000
END:STANDARD
END:VTIMEZONE
BEGIN:VEVENT
DTSTART;VALUE=DATE:20200412
DTEND;VALUE=DATE:20200413
DTSTAMP:20260423T232350
CREATED:20191121T081122Z
LAST-MODIFIED:20191123T145627Z
UID:2941-1586649600-1586735999@badminton42.fr
SUMMARY:Tournoi Championnat par équipe Andrézieux-Bouthéon
DESCRIPTION:Pour la toute première fois sur le département de la Loire\, le club d’Andrézieux-Bouthéon organise son 1er tournoi championnat par équipes dimanche 12 avril 2020. \nTournoi officiel autorisé par la FFBad qui fonctionne comme un interclub : chaque match compte pour le CPPH indépendamment du résultat final de l’équipe. \n\n5 poules uniques de 4 équipes réparties par niveau\nEquipes de 4 à 6 personnes (minimum 2 filles\, 2 garçons)\n4 matchs par rencontre :\n\n1 double dames\n1 double hommes\n1 double mixtes (N°1)\n1 double mixtes (N°2)\n\n\n\nSi l’équipe vient à 4 (2D et 2H) cela vous fera faire 6 matchs chacun sur la journée. Mais pour vous économisez vous pouvez opter pour la version 5 ou 6 joueurs. \nL’équipe vainqueur de son championnat sera récompensée. \nBuvette sur place et accueil conviviale. \nles inscriptions se feront uniquement avec le fichier ci dessous. La composition d’équipe pour la première rencontre sera à faire avant le jour du tournoi (la liste des joueurs de l’équipe adverse vous sera envoyée en avance). Pour les rencontres suivantes\, la composition d’équipe sera faite le jour du tournoi. \nATTENTION : il y aura au maximum 20 équipes. Dès le seuil de 20 atteint nous fermons les inscriptions et nous mettrons les équipes sur une liste d’attente. \nPrix d’inscription pour l’équipe : 100 € (que vous soyez 4 ou 6) \nInscription sur Badiste \nFiche Inscription Equipe 2020 \nRP 1er Tournoi par Equipe d’Andrézieux-Bouthéon \n 
URL:https://badminton42.fr/event/tournoi-championnat-par-equipe-andrezieux-boutheon/
CATEGORIES:Tournoi
ATTACH;FMTTYPE=image/jpeg:https://badminton42.fr/wp-content/uploads/2019/11/Affiche-équipe-2020.jpg
ORGANIZER;CN="Florian CHALARD":MAILTO:tournoi.abbc.42@gmail.com
END:VEVENT
END:VCALENDAR