BEGIN:VCALENDAR
VERSION:2.0
PRODID:-//Comité Départemental Loire Badminton - ECPv6.15.12.2//NONSGML v1.0//EN
CALSCALE:GREGORIAN
METHOD:PUBLISH
X-ORIGINAL-URL:https://badminton42.fr
X-WR-CALDESC:Évènements pour Comité Départemental Loire Badminton
REFRESH-INTERVAL;VALUE=DURATION:PT1H
X-Robots-Tag:noindex
X-PUBLISHED-TTL:PT1H
BEGIN:VTIMEZONE
TZID:UTC
BEGIN:STANDARD
TZOFFSETFROM:+0000
TZOFFSETTO:+0000
TZNAME:UTC
DTSTART:20190101T000000
END:STANDARD
END:VTIMEZONE
BEGIN:VEVENT
DTSTART;TZID=UTC:20200205T080000
DTEND;TZID=UTC:20200205T170000
DTSTAMP:20260424T020620
CREATED:20200205T135939Z
LAST-MODIFIED:20200205T135939Z
UID:3063-1580889600-1580922000@badminton42.fr
SUMMARY:STAGE OAT
DESCRIPTION:Fiche d inscription stage OAT 27 02 20
URL:https://badminton42.fr/event/stage-oat/
CATEGORIES:Stage
ATTACH;FMTTYPE=image/jpeg:https://badminton42.fr/wp-content/uploads/2020/02/affiche-stage-OAT.jpg
END:VEVENT
END:VCALENDAR