BEGIN:VCALENDAR
VERSION:2.0
PRODID:-//Comité Départemental Loire Badminton - ECPv6.15.12.2//NONSGML v1.0//EN
CALSCALE:GREGORIAN
METHOD:PUBLISH
X-ORIGINAL-URL:https://badminton42.fr
X-WR-CALDESC:Évènements pour Comité Départemental Loire Badminton
REFRESH-INTERVAL;VALUE=DURATION:PT1H
X-Robots-Tag:noindex
X-PUBLISHED-TTL:PT1H
BEGIN:VTIMEZONE
TZID:UTC
BEGIN:STANDARD
TZOFFSETFROM:+0000
TZOFFSETTO:+0000
TZNAME:UTC
DTSTART:20190101T000000
END:STANDARD
END:VTIMEZONE
BEGIN:VEVENT
DTSTART;VALUE=DATE:20200125
DTEND;VALUE=DATE:20200127
DTSTAMP:20260424T034714
CREATED:20191118T050751Z
LAST-MODIFIED:20191123T042433Z
UID:2911-1579910400-1580083199@badminton42.fr
SUMMARY:TOURNOI LA FOUILLOUSE
DESCRIPTION:Bonjour à tous\, \nNotre 13ème Tournoi – Les Fous du Volant est ouvert aux inscriptions. \nNous vous attendons nombreux pour participer à cette compétition et pour passer une bonne journée dans la convivialité bien connue de notre club. \nLe tournoi est ouvert à tous les joueurs minimes\, cadets\, juniors\, séniors et vétérans\, de NC à R4 pour les tableaux SIMPLE – DOUBLE – MIXTE. \nVenez vous affronter dans une compétition vous offrant un maximum de jeu\, \nUne buvette et un stand de cordage seront mis à votre disposition. \nRappel des modalités d’inscriptions : \nLes inscriptions des joueurs se feront par club et devront être envoyées avant le samedi 11 janvier 2020.\n– Par mail au responsable du tournoi : tournois-la-fouillouse@hotmail.fr\n– Par courrier à l’adresse postale : \nM. Denis PEREIRA\n13 Chemin des Sagnes   – 42390 Villars \nDocuments d’inscription  \n\nFEUILLE INSCRIPTION TOURNOI 25 & 26 Janvier 2020 \nLFDV42 Règlement particulier tournoi LFDV 2020\n\n\n\nBien sportivement à tous \nLes Fous du Volant \nwww.lfdv42.org
URL:https://badminton42.fr/event/tournoi-la-fouillouse-3/
CATEGORIES:Tournoi
ATTACH;FMTTYPE=image/jpeg:https://badminton42.fr/wp-content/uploads/2019/11/affiche_2020.jpg
ORGANIZER;CN="Denis PEREIRA":MAILTO:tournois-la-fouillouse@hotmail.fr 
END:VEVENT
END:VCALENDAR