BEGIN:VCALENDAR
VERSION:2.0
PRODID:-//Comité Départemental Loire Badminton - ECPv6.15.12.2//NONSGML v1.0//EN
CALSCALE:GREGORIAN
METHOD:PUBLISH
X-WR-CALNAME:Comité Départemental Loire Badminton
X-ORIGINAL-URL:https://badminton42.fr
X-WR-CALDESC:Évènements pour Comité Départemental Loire Badminton
REFRESH-INTERVAL;VALUE=DURATION:PT1H
X-Robots-Tag:noindex
X-PUBLISHED-TTL:PT1H
BEGIN:VTIMEZONE
TZID:UTC
BEGIN:STANDARD
TZOFFSETFROM:+0000
TZOFFSETTO:+0000
TZNAME:UTC
DTSTART:20180101T000000
END:STANDARD
END:VTIMEZONE
BEGIN:VEVENT
DTSTART;VALUE=DATE:20191223
DTEND;VALUE=DATE:20191224
DTSTAMP:20260424T051250
CREATED:20191121T065925Z
LAST-MODIFIED:20191121T065925Z
UID:2930-1577059200-1577145599@badminton42.fr
SUMMARY:Dispositif Avenir Départemental (DAD)
DESCRIPTION:Fiche d inscription DAD 231219
URL:https://badminton42.fr/event/dispositif-avenir-departemental-dad/
CATEGORIES:Stage
ATTACH;FMTTYPE=image/jpeg:https://badminton42.fr/wp-content/uploads/2019/11/affiche-DAD.jpg
END:VEVENT
END:VCALENDAR