BEGIN:VCALENDAR
VERSION:2.0
PRODID:-//Comité Départemental Loire Badminton - ECPv6.15.12.2//NONSGML v1.0//EN
CALSCALE:GREGORIAN
METHOD:PUBLISH
X-WR-CALNAME:Comité Départemental Loire Badminton
X-ORIGINAL-URL:https://badminton42.fr
X-WR-CALDESC:Évènements pour Comité Départemental Loire Badminton
REFRESH-INTERVAL;VALUE=DURATION:PT1H
X-Robots-Tag:noindex
X-PUBLISHED-TTL:PT1H
BEGIN:VTIMEZONE
TZID:UTC
BEGIN:STANDARD
TZOFFSETFROM:+0000
TZOFFSETTO:+0000
TZNAME:UTC
DTSTART:20180101T000000
END:STANDARD
END:VTIMEZONE
BEGIN:VEVENT
DTSTART;VALUE=DATE:20191201
DTEND;VALUE=DATE:20191202
DTSTAMP:20260424T051224
CREATED:20191001T165628Z
LAST-MODIFIED:20191001T165628Z
UID:2852-1575158400-1575244799@badminton42.fr
SUMMARY:Tournoi de Feurs
DESCRIPTION:Tournoi de doubles de Feurs\nDimanche 1er décembre 2019\nDouble Dame – Double Homme
URL:https://badminton42.fr/event/tournoi-de-feurs-3/
LOCATION:Gymnase G1 Feurs\, route de Civens\, Feurs\, 42110\, France
CATEGORIES:Tournoi
ATTACH;FMTTYPE=image/jpeg:https://badminton42.fr/wp-content/uploads/2019/10/71224378_2718104891554783_2814827841022066688_o.jpg
ORGANIZER;CN="Muriel VIAL":MAILTO:inscriptionstournois.fbc42@gmail.com
END:VEVENT
END:VCALENDAR