BEGIN:VCALENDAR
VERSION:2.0
PRODID:-//Comité Départemental Loire Badminton - ECPv6.15.12.2//NONSGML v1.0//EN
CALSCALE:GREGORIAN
METHOD:PUBLISH
X-WR-CALNAME:Comité Départemental Loire Badminton
X-ORIGINAL-URL:https://badminton42.fr
X-WR-CALDESC:Évènements pour Comité Départemental Loire Badminton
REFRESH-INTERVAL;VALUE=DURATION:PT1H
X-Robots-Tag:noindex
X-PUBLISHED-TTL:PT1H
BEGIN:VTIMEZONE
TZID:UTC
BEGIN:STANDARD
TZOFFSETFROM:+0000
TZOFFSETTO:+0000
TZNAME:UTC
DTSTART:20180101T000000
END:STANDARD
END:VTIMEZONE
BEGIN:VEVENT
DTSTART;VALUE=DATE:20191026
DTEND;VALUE=DATE:20191028
DTSTAMP:20260424T082158
CREATED:20190923T132043Z
LAST-MODIFIED:20190923T132043Z
UID:2797-1572048000-1572220799@badminton42.fr
SUMMARY:Tournoi de St Joseph
DESCRIPTION:Le Saint Joseph Badminton Club vous invite à son 8ème tournoi de Double !\n\n\n\n\n\n\n\n\n\nLes 26 et 27 Octobre 2019 \na \nDouble Dame et Double Homme le samedi \nDouble Mixte le dimanche \n  \nCatégories : de Minimes à Vétérans \nSéries de : NC à R4 \n2 sortants par poule dans toutes les catégories. \n\n\n\n\n\n\n\n\n\nLes documents du tournoi sont disponibles ici: \nhttps://badiste.fr/tournoi-badminton/8eme-tournoi-de-doubles-de-saint-joseph-11251.html \n– RIB \n\n\n\n\n\n\n\nDate limite d’inscription: 18 Octobre 2019 \n  \n– Par mail à : accueil@sjbc.fr \n– Par courrier à l’adresse suivante: Stéphane TOGNARI \nRue du château d’eau 148 impasse des noyers \n42800 CHATEAUNEUF \n18€ le tableau – 20€ les deux tableaux \n  \nSuite à des impayés sur la saison précédente\, toute inscription non payée ne sera pas prise en compte.\n\n\n\n\n\n\n\n\nUne buvette et le stand de cordage de l’Atelier Sportif sera à votre disposition tout au long du week-end. \nNous vous attendons donc très nombreux afin de faire de cette 2ème édition une réussite. \nA très bientôt sur les terrains. \nLe Saint Joseph Badminton Club \n\n\n\n\n\n\n\n\n\n Plus d’information: accueil@sjbc.fr
URL:https://badminton42.fr/event/tournoi-de-st-joseph-2/
LOCATION:Gymnase Saint-Joseph\, rue du stade\, Saint-Joseph\, France
CATEGORIES:Tournoi
ATTACH;FMTTYPE=image/png:https://badminton42.fr/wp-content/uploads/2019/09/images-SJBC.png
ORGANIZER;CN="sjbc":MAILTO:accueil@sjbc.fr
END:VEVENT
END:VCALENDAR