BEGIN:VCALENDAR
VERSION:2.0
PRODID:-//Comité Départemental Loire Badminton - ECPv6.15.12.2//NONSGML v1.0//EN
CALSCALE:GREGORIAN
METHOD:PUBLISH
X-WR-CALNAME:Comité Départemental Loire Badminton
X-ORIGINAL-URL:https://badminton42.fr
X-WR-CALDESC:Évènements pour Comité Départemental Loire Badminton
REFRESH-INTERVAL;VALUE=DURATION:PT1H
X-Robots-Tag:noindex
X-PUBLISHED-TTL:PT1H
BEGIN:VTIMEZONE
TZID:UTC
BEGIN:STANDARD
TZOFFSETFROM:+0000
TZOFFSETTO:+0000
TZNAME:UTC
DTSTART:20180101T000000
END:STANDARD
END:VTIMEZONE
BEGIN:VEVENT
DTSTART;VALUE=DATE:20191019
DTEND;VALUE=DATE:20191021
DTSTAMP:20260424T082146
CREATED:20190914T083138Z
LAST-MODIFIED:20190914T083138Z
UID:2787-1571443200-1571615999@badminton42.fr
SUMMARY:Tournoi de Montbrison
DESCRIPTION:Tournoi de montbrison\n19 et 20 octobre 2019\nSamedi 19 et Dimanche 20 octobre 2019 se déroule à Montbrison (42) la 26ème édition du tournoi du Forez \nMatch en simples\, doubles\, mixtes\, et tableau le dimanche pour les enfants à partir de Poussin \nSérie à partir de N2 jusqu’a P \n2 gymnase\, 18 terrains \nRèglement-particulier-FOREZ-2019 \nfeuille inscription 28eme toiurnoi du forez adultes
URL:https://badminton42.fr/event/tournoi-de-montbrison-2/
LOCATION:Complexe sportif de Beauregard Montbrison\, rue de Beauregard\, Montbrison\, 42600\, France
CATEGORIES:Tournoi
ATTACH;FMTTYPE=image/jpeg:https://badminton42.fr/wp-content/uploads/2019/09/affiche-2019.jpg
ORGANIZER;CN="Jean-Philippe RAIOLA":MAILTO:trjmontbrison@gmail.com
END:VEVENT
END:VCALENDAR