BEGIN:VCALENDAR
VERSION:2.0
PRODID:-//Comité Départemental Loire Badminton - ECPv6.15.12.2//NONSGML v1.0//EN
CALSCALE:GREGORIAN
METHOD:PUBLISH
X-WR-CALNAME:Comité Départemental Loire Badminton
X-ORIGINAL-URL:https://badminton42.fr
X-WR-CALDESC:Évènements pour Comité Départemental Loire Badminton
REFRESH-INTERVAL;VALUE=DURATION:PT1H
X-Robots-Tag:noindex
X-PUBLISHED-TTL:PT1H
BEGIN:VTIMEZONE
TZID:UTC
BEGIN:STANDARD
TZOFFSETFROM:+0000
TZOFFSETTO:+0000
TZNAME:UTC
DTSTART:20180101T000000
END:STANDARD
END:VTIMEZONE
BEGIN:VEVENT
DTSTART;TZID=UTC:20190427T090000
DTEND;TZID=UTC:20190427T163000
DTSTAMP:20260424T181153
CREATED:20190402T064945Z
LAST-MODIFIED:20190402T064945Z
UID:2612-1556355600-1556382600@badminton42.fr
SUMMARY:Plateau minibad/ Rencontre Départemental Jeunes(RDJ)
DESCRIPTION:Inscriptions plateau et RDJ SCPGBAD(1)
URL:https://badminton42.fr/event/plateau-minibad-rencontre-departemental-jeunesrdj/
ORGANIZER;CN="Sylvain GERBOT":MAILTO:sylvain.cdlb@gmail.com
END:VEVENT
END:VCALENDAR