BEGIN:VCALENDAR
VERSION:2.0
PRODID:-//Comité Départemental Loire Badminton - ECPv6.15.12.2//NONSGML v1.0//EN
CALSCALE:GREGORIAN
METHOD:PUBLISH
X-ORIGINAL-URL:https://badminton42.fr
X-WR-CALDESC:Évènements pour Comité Départemental Loire Badminton
REFRESH-INTERVAL;VALUE=DURATION:PT1H
X-Robots-Tag:noindex
X-PUBLISHED-TTL:PT1H
BEGIN:VTIMEZONE
TZID:UTC
BEGIN:STANDARD
TZOFFSETFROM:+0000
TZOFFSETTO:+0000
TZNAME:UTC
DTSTART:20180101T000000
END:STANDARD
END:VTIMEZONE
BEGIN:VEVENT
DTSTART;VALUE=DATE:20190216
DTEND;VALUE=DATE:20190217
DTSTAMP:20260424T205942
CREATED:20190105T090103Z
LAST-MODIFIED:20190107T165928Z
UID:2515-1550275200-1550361599@badminton42.fr
SUMMARY:Interclubs Jeunes Départementaux
DESCRIPTION:Inscriptions ICJ 2019 \nrèglement interclubs jeunes
URL:https://badminton42.fr/event/interclubs-jeunes-departementaux/
LOCATION:Salle des berges du Gier L’Horme\, Route des Côtes\, L'Horme\, 42152\, France
ORGANIZER;CN="Sylvain GERBOT":MAILTO:sylvain.cdlb@gmail.com
END:VEVENT
END:VCALENDAR