BEGIN:VCALENDAR
VERSION:2.0
PRODID:-//Comité Départemental Loire Badminton - ECPv6.15.12.2//NONSGML v1.0//EN
CALSCALE:GREGORIAN
METHOD:PUBLISH
X-ORIGINAL-URL:https://badminton42.fr
X-WR-CALDESC:Évènements pour Comité Départemental Loire Badminton
REFRESH-INTERVAL;VALUE=DURATION:PT1H
X-Robots-Tag:noindex
X-PUBLISHED-TTL:PT1H
BEGIN:VTIMEZONE
TZID:UTC
BEGIN:STANDARD
TZOFFSETFROM:+0000
TZOFFSETTO:+0000
TZNAME:UTC
DTSTART:20180101T000000
END:STANDARD
END:VTIMEZONE
BEGIN:VEVENT
DTSTART;VALUE=DATE:20190112
DTEND;VALUE=DATE:20190114
DTSTAMP:20260424T223710
CREATED:20181130T062551Z
LAST-MODIFIED:20181130T062551Z
UID:2429-1547251200-1547423999@badminton42.fr
SUMMARY:Tournoi de l'Epiphanie (Rive de Gier)
DESCRIPTION:  \nBonjour à vous tous\, nous sommes heureux de vous convier à notre 33ème édition du \nTournoi de L’Epiphanie\nles 12 & 13 Janvier 2019\nau gymnase Jacques Anquetil (à Rive de Gier) \n– Les Doubles Dames & Hommes se dérouleront le samedi 12 Janvier 2019 de 8h00 à 20h30 / 21h00.\n– Les Doubles Mixtes se dérouleront le dimanche 13 Janvier 2019 à partir de 8h00 \nA votre disposition 7 terrains de jeu et 1 terrain d’échauffement sur l’ensemble de la compétition \nNous ouvrons notre tournoi aux séries NC à R5 comprises\nTableaux : NC/P12/P11 – P10/D9 – D8/D7 – R6/R5\nCi joint tous les documents de notre compétition : \n– plaquette tournoi Epiphanie 2019 \n– Reglement particulier du 33 tournoi \n– inscription 33eme tournoi \n/!\ Aucune inscription par Badliste /!\ \nDate limite d’inscription : 20 DECEMBRE 2018\nTirage au sort : 21 DECEMBRE 2018 \nA très bientôt sur les terrains \nPour tous renseignements : tournois@bcrg.fr \nL’équipe du BCRG
URL:https://badminton42.fr/event/tournoi-de-lepiphanie-rive-de-gier/
LOCATION:Gymnase Jacques Anquetil Rive de Gier\, rue du Mathoret\, Rive de Gier
ATTACH;FMTTYPE=image/png:https://badminton42.fr/wp-content/uploads/2018/11/Affiche_Epiphanie_BCRG_2019_1_.png
ORGANIZER;CN="Tournoi Rive de Gier":MAILTO:tournois@bcrg.fr
END:VEVENT
END:VCALENDAR