BEGIN:VCALENDAR
VERSION:2.0
PRODID:-//Comité Départemental Loire Badminton - ECPv6.15.12.2//NONSGML v1.0//EN
CALSCALE:GREGORIAN
METHOD:PUBLISH
X-ORIGINAL-URL:https://badminton42.fr
X-WR-CALDESC:Évènements pour Comité Départemental Loire Badminton
REFRESH-INTERVAL;VALUE=DURATION:PT1H
X-Robots-Tag:noindex
X-PUBLISHED-TTL:PT1H
BEGIN:VTIMEZONE
TZID:UTC
BEGIN:STANDARD
TZOFFSETFROM:+0000
TZOFFSETTO:+0000
TZNAME:UTC
DTSTART:20170101T000000
END:STANDARD
END:VTIMEZONE
BEGIN:VEVENT
DTSTART;TZID=UTC:20181216T090000
DTEND;TZID=UTC:20181216T170000
DTSTAMP:20260425T014923
CREATED:20181113T153435Z
LAST-MODIFIED:20181113T153435Z
UID:2398-1544950800-1544979600@badminton42.fr
SUMMARY:Stage Décembre (Poussin - Benjamin 1)
DESCRIPTION:Stage Poussin et Benjamin 1\norganisé par le comité de la Loire de badminton\n  \nDimanche 16 décembre 2018 à St Marcellin\nInscription auprès de Nathalie Martin \n\n\n\nNathalie Martin\nConseillère Technique Départementale \nComité Départemental Loire badminton\n06 29 13 53 86\n4 rue des Trois Meules 42100 St Etienne
URL:https://badminton42.fr/event/stage-decembre-poussin-benjamin-1/
LOCATION:Gymnase Saint-Marcellin en Forez\, rue Pasteur\, St Marcellin en Forez\, 42680\, France
CATEGORIES:Stage
ATTACH;FMTTYPE=image/jpeg:https://badminton42.fr/wp-content/uploads/2018/11/DAD.jpg
ORGANIZER;CN="MARTIN Nathalie":MAILTO:nmartin.ctd42@gmail.com
END:VEVENT
END:VCALENDAR