BEGIN:VCALENDAR
VERSION:2.0
PRODID:-//Comité Départemental Loire Badminton - ECPv6.15.12.2//NONSGML v1.0//EN
CALSCALE:GREGORIAN
METHOD:PUBLISH
X-WR-CALNAME:Comité Départemental Loire Badminton
X-ORIGINAL-URL:https://badminton42.fr
X-WR-CALDESC:Évènements pour Comité Départemental Loire Badminton
REFRESH-INTERVAL;VALUE=DURATION:PT1H
X-Robots-Tag:noindex
X-PUBLISHED-TTL:PT1H
BEGIN:VTIMEZONE
TZID:UTC
BEGIN:STANDARD
TZOFFSETFROM:+0000
TZOFFSETTO:+0000
TZNAME:UTC
DTSTART:20170101T000000
END:STANDARD
END:VTIMEZONE
BEGIN:VEVENT
DTSTART;VALUE=DATE:20181110
DTEND;VALUE=DATE:20181111
DTSTAMP:20260425T014716
CREATED:20181002T121847Z
LAST-MODIFIED:20181002T121847Z
UID:2227-1541808000-1541894399@badminton42.fr
SUMMARY:CJL Firminy
DESCRIPTION:Le BCF invite les jeunes  à la 3ème étapes du Circuit Jeune Loire qui aura lieu le samedi 10 novembre à Firminy au gymnase des Bruneaux (rue de Chanzy) \nLes catégories et tableaux ouverts sont : \nSimple homme et dame Poussins – Benjamins – Minimes – Cadets/Juniors \nLa date limite d’inscription est fixée au vendredi 2 novembre 2018 \nElles devront être envoyées par mail au responsable des inscriptions Béatrice Breuil \ninscriptionjeunesfirminy@laposte.net \nAttention : avec les vacances scolaires\, merci d’en informer vos jeunes au plus tôt \nNous vous attendons nombreux sur nos terrains \nL’équipe du BCF \nDocuments d’inscription \n\nFiche d’inscription 2018\nRèglement CJL firminy 2018
URL:https://badminton42.fr/event/cjl-firminy-2/
LOCATION:Gymnase des Bruneaux Firminy\, rue Chanzy\, Firminy\, 42700\, France
CATEGORIES:CJL
ORGANIZER;CN="B%C3%A9atrice BREUIL":MAILTO:inscriptiontournoifirminy@laposte.net
END:VEVENT
END:VCALENDAR