BEGIN:VCALENDAR
VERSION:2.0
PRODID:-//Comité Départemental Loire Badminton - ECPv6.15.12.2//NONSGML v1.0//EN
CALSCALE:GREGORIAN
METHOD:PUBLISH
X-ORIGINAL-URL:https://badminton42.fr
X-WR-CALDESC:Évènements pour Comité Départemental Loire Badminton
REFRESH-INTERVAL;VALUE=DURATION:PT1H
X-Robots-Tag:noindex
X-PUBLISHED-TTL:PT1H
BEGIN:VTIMEZONE
TZID:UTC
BEGIN:STANDARD
TZOFFSETFROM:+0000
TZOFFSETTO:+0000
TZNAME:UTC
DTSTART:20170101T000000
END:STANDARD
END:VTIMEZONE
BEGIN:VEVENT
DTSTART;TZID=UTC:20180929T133000
DTEND;TZID=UTC:20180930T163000
DTSTAMP:20260425T045646
CREATED:20180704T023915Z
LAST-MODIFIED:20180704T023915Z
UID:2025-1538227800-1538325000@badminton42.fr
SUMMARY:Tournoi des dirigeants Ligue AURA
DESCRIPTION:Bonjour\, \nLa ligue Auvergne-Rhône-Alpes souhaite accompagner les dirigeants de club et de comité dans la gestion de leur structure. \nC’est pourquoi depuis 2015 elle met en place une formation annuelle qui leur est destinée et qui revêt un format original. \nLa ligue organisera donc à Andrézieux-Bouthéon (banlieue de St Etienne 42)  les 29 et 30 septembre 2018  le tournoi des dirigeants. \nAinsi sur une journée et demi\, vous pourrez jouer en vous informant sur des sujets d’importance pour les dirigeants que vous êtes :  \n        – Mener un projet de club \n        – La professionnalisation \n        – Fidélisation des licenciés \nUn temps d’échanges d’expériences sera aussi organisé. \nEt tout ça\, dans une ambiance conviviale et sportive\, au cœur du département de la Loire à d’Andrézieux-Bouthéon. \n2 dirigeants / club pris intégralement en charge par la ligue (hébergement\, restauration\, frais pédagogiques et frais de tournoi) \nEn pièce jointe\, vous avez le flyer de présentation ainsi que le coupon de participation à renvoyer avant le vendredi 13 septembre 2018 à julie.guillet@badminton-aura.org \nFormulaire Inscription \nC’est pourquoi\, il n’y a pas à hésiter pour dores et déjà réserver votre week-end des 29 et 30 septembre 2018. \nAu plaisir de se rencontrer \nThomas CHAMPION\nDirecteur technique Ligue Auvergne-Rhône-Alpes de badminton \n37 route du Vercors 38500 Saint Cassien\nthomas.champion@badminton-aura.org\nTel : 04.76.91.47.86\nMobile : 06.62.50.23.95
URL:https://badminton42.fr/event/tournoi-des-dirigeants-ligue-aura/
LOCATION:Gymnase du Lycée Andrézieux-Bouthéon\, Impasse Chateaubriand\, Andrézieux-Bouthéon\, 42160\, France
CATEGORIES:Formation,Tournoi
ATTACH;FMTTYPE=image/jpeg:https://badminton42.fr/wp-content/uploads/2018/07/flyer-tournoi-des-dirigeants-sept-2018.jpg
ORGANIZER;CN="Ligue AURA":MAILTO:julie.guillet@badminton-aura.org
END:VEVENT
BEGIN:VEVENT
DTSTART;VALUE=DATE:20180930
DTEND;VALUE=DATE:20181001
DTSTAMP:20260425T045646
CREATED:20180826T183506Z
LAST-MODIFIED:20180826T183543Z
UID:2137-1538265600-1538351999@badminton42.fr
SUMMARY:CJL Feurs
DESCRIPTION:Toute l’équipe du Feurs Badminton Club invite  les jeunes de votre club à la 1ère étape du Circuit Jeune de la Loire qui aura lieu à FEURS: \ndimanche 30 septembre 2018\nAu gymnase G1 situé route de Civens 42110 Feurs\n \nVous trouverez ci dessous le règlement particulier ainsi que la feuille d’inscription\n\nfeuille d’inscription CJL Feurs\nRèglement CJL Feurs 2018\n\nUn petit changement pour cette nouvelle saison: les joueurs juniors seront les bienvenus et seront regroupés avec les cadets.\n \nLes catégories et tableaux ouverts sont: simples hommes et dames benjamins\, minimes et cadets/juniors.\n \nLa date limite des inscriptions est fixée au vendredi 21 septembre 2018. Elles devront être envoyées par mail au responsable du tournoi\, Muriel Vial\, à l’adresse suivante:inscriptionstournois.fbc42@gmail.com\n \nAttention très important: étant donné que nous serons en tout début de saison nous vous demandons de bien veiller à ce que vos joueurs soient à jour dans la prise de leur licence.\n \nNous vous souhaitons une très bonne rentrée et vous attendons nombreux sur nos terrains\n \nL’équipe du FBC
URL:https://badminton42.fr/event/cjl-feurs/
CATEGORIES:CJL
END:VEVENT
END:VCALENDAR