BEGIN:VCALENDAR
VERSION:2.0
PRODID:-//Comité Départemental Loire Badminton - ECPv6.15.12.2//NONSGML v1.0//EN
CALSCALE:GREGORIAN
METHOD:PUBLISH
X-ORIGINAL-URL:https://badminton42.fr
X-WR-CALDESC:Évènements pour Comité Départemental Loire Badminton
REFRESH-INTERVAL;VALUE=DURATION:PT1H
X-Robots-Tag:noindex
X-PUBLISHED-TTL:PT1H
BEGIN:VTIMEZONE
TZID:UTC
BEGIN:STANDARD
TZOFFSETFROM:+0000
TZOFFSETTO:+0000
TZNAME:UTC
DTSTART:20160101T000000
END:STANDARD
END:VTIMEZONE
BEGIN:VEVENT
DTSTART;VALUE=DATE:20171104
DTEND;VALUE=DATE:20171106
DTSTAMP:20260425T204557
CREATED:20170722T080420Z
LAST-MODIFIED:20170920T034959Z
UID:937-1509753600-1509926399@badminton42.fr
SUMMARY:Tournoi Sorbiers
DESCRIPTION:Tournoi simple et double\, série N3 à P \nInscription et règlement sur Badiste : ICI \nPage Facebook de l’événement : ICI \n 
URL:https://badminton42.fr/event/tournoi-sorbiers/
LOCATION:Complexe du Valjoly Sorbiers\, avenue du Valjoly\, Sorbiers\, 42290\, France
CATEGORIES:Tournoi
ATTACH;FMTTYPE=image/jpeg:https://badminton42.fr/wp-content/uploads/2017/07/21427109_1417053755016685_6515025920816676567_o.jpg
END:VEVENT
BEGIN:VEVENT
DTSTART;VALUE=DATE:20171105
DTEND;VALUE=DATE:20171106
DTSTAMP:20260425T204557
CREATED:20171010T114832Z
LAST-MODIFIED:20171010T114832Z
UID:1214-1509840000-1509926399@badminton42.fr
SUMMARY:TOP Elite 42/63 N°2
DESCRIPTION:  \nTOP Elite 42/63 numéro 2\, qui se déroulera à Roanne \nMerci de compléter la fiche d’inscription dans les temps impartis …. \nInvitation TOP Elite 42-63 n°2
URL:https://badminton42.fr/event/top-elite-4263-n2/
LOCATION:Gymnase Fontalon Roanne\, rue Lucien Sempaix\, Roanne\, 42300\, France
ORGANIZER;CN="Sylvain GERBOT":MAILTO:sylvain.cdlb@gmail.com
END:VEVENT
END:VCALENDAR