BEGIN:VCALENDAR
VERSION:2.0
PRODID:-//Comité Départemental Loire Badminton - ECPv6.15.12.2//NONSGML v1.0//EN
CALSCALE:GREGORIAN
METHOD:PUBLISH
X-ORIGINAL-URL:https://badminton42.fr
X-WR-CALDESC:Évènements pour Comité Départemental Loire Badminton
REFRESH-INTERVAL;VALUE=DURATION:PT1H
X-Robots-Tag:noindex
X-PUBLISHED-TTL:PT1H
BEGIN:VTIMEZONE
TZID:UTC
BEGIN:STANDARD
TZOFFSETFROM:+0000
TZOFFSETTO:+0000
TZNAME:UTC
DTSTART:20160101T000000
END:STANDARD
END:VTIMEZONE
BEGIN:VEVENT
DTSTART;TZID=UTC:20170603T080000
DTEND;TZID=UTC:20170605T170000
DTSTAMP:20260426T041853
CREATED:20170322T083116Z
LAST-MODIFIED:20170322T083116Z
UID:240-1496476800-1496682000@badminton42.fr
SUMMARY:Double tour Roannais
DESCRIPTION:TOURNOI DE ROANNE BIS (42)\nLE DOUBLE TOUR ROANNAIS est de retour ou plutôt le triple tour !!!\nEn effet cette année le CBR organise son tournoi sur trois jours et sur deux gymnases les 3\,4 et 5 Juin !!!\nLe samedi les courageux pourront s’affronter en simple\, le dimanche les DH et DD et le lundi les mixtes pour trois fois plus de plaisir et de calories dépensées
URL:https://badminton42.fr/event/double-tour-roannais/
ATTACH;FMTTYPE=image/jpeg:https://badminton42.fr/wp-content/uploads/2017/03/Affiche-DTR.jpg
END:VEVENT
END:VCALENDAR